BEGIN:VCALENDAR
VERSION:2.0
PRODID:-//Ostravská univerzita//Den otevřených dveří//CS
CALSCALE:GREGORIAN
METHOD:PUBLISH
BEGIN:VEVENT
UID:dod-osu-20260123T090000@osu.cz
DTSTAMP:20251229T120000Z
DTSTART;TZID=Europe/Prague:20260123T090000
DTEND;TZID=Europe/Prague:20260123T160000
SUMMARY:Den otevřených dveří – Ostravská univerzita
DESCRIPTION:Den otevřených dveří skoro na všech budovách Ostravské univerzity.\n
 \nVíce informací: https://www.osu.cz/dny-otevrenych-dveri/\n
 \n📍 Lokality (Google Maps):\n
 \n🟩 Přírodovědecká fakulta – Bráfova 7\, Moravská Ostrava\n
  https://www.google.com/maps/search/?api=1&query=Br%C3%A1fova%207%2C%20Moravsk%C3%A1%20Ostrava%2C%20Ostrava\n
 \n🟩 Přírodovědecká fakulta – Chittussiho 10\, Slezská Ostrava\n
  https://www.google.com/maps/search/?api=1&query=Chittussiho%2010%2C%20Slezsk%C3%A1%20Ostrava%2C%20Ostrava\n
 \n🟨 Fakulta sociálních studií – Českobratrská 16\, Moravská Ostrava\n
  https://www.google.com/maps/search/?api=1&query=%C4%8Ceskobratrsk%C3%A1%2016%2C%20Moravsk%C3%A1%20Ostrava%2C%20Ostrava\n
 \n🟧 Pedagogická fakulta (City Campus) – Moravská Ostrava 3397\n
  https://www.google.com/maps/search/?api=1&query=Moravsk%C3%A1%20Ostrava%203397%2C%20Ostrava\n
 \n🟧 Pedagogická fakulta – Fráni Šrámka 3\, Ostrava – Mariánské Hory\n
  https://www.google.com/maps/search/?api=1&query=Fr%C3%A1ni%20%C5%A0r%C3%A1mka%203%2C%20Ostrava%20-%20Mari%C3%A1nsk%C3%A9%20Hory\n
 \n🟪 Filozofická fakulta – tř. Čs. legií 150/9\, Moravská Ostrava\n
  https://www.google.com/maps/search/?api=1&query=t%C5%99.%20%C4%8Cs.%20legi%C3%AD%20150%2F9%2C%20Moravsk%C3%A1%20Ostrava%2C%20Ostrava\n
  \n🟥 Fakulta umění – Podlahova 3\, Ostrava – Mariánské Hory\n
  https://www.google.com/maps/search/?api=1&query=Podlahova%203%2C%20Ostrava%20-%20Mari%C3%A1nsk%C3%A9%20Hory\n
 \n🟥 Fakulta umění (City Campus) – Moravská Ostrava 3398\n
  https://www.google.com/maps/search/?api=1&query=%C4%8Cern%C3%A1%20louka%203398%2C%20702%2000%20Moravsk%C3%A1%20Ostrava%20a%20P%C5%99%C3%ADvoz\n
 \n🟦 Lékařská fakulta (celý areál) – Syllabova 2879/19f\, Ostrava – Vítkovice\n
  https://www.google.com/maps/search/?api=1&query=Syllabova%202879%2F19f%2C%20Ostrava%20-%20V%C3%ADtkovice
LOCATION:Ostrava – budovy Ostravské univerzity
URL:https://www.osu.cz/dny-otevrenych-dveri/
END:VEVENT
END:VCALENDAR
